BEGIN:VCALENDAR
VERSION:2.0
PRODID:-//eventon.com NONSGML v1.0//EN
CALSCALE:GREGORIAN
METHOD:PUBLISH
BEGIN:VEVENT
UID:69e60162aee15
DTSTAMP:20260420T103514Z
DTSTART:20190514T050000Z
DTEND:20190515T045900Z
LOCATION:
SUMMARY:Legal Remedies to Protect Vulnerable Adults from Undue Influence and Financial Exploitation
DESCRIPTION:Presented By: Kathryn C. Casey\,  JD\,  CELA Audience: This tr
 aining is for law enforcement officers only and is offered though the Offic
 e of Illinois Attorney General Elderly Service Officers Training Program\nh
 ttps://duttonelderlaw.com/events/legal-remedies-to-protect-vulnerable-adult
 s-from-undue-influence-and-financial-exploitation/
URL:https://duttonelderlaw.com/events/legal-remedies-to-protect-vulnerable-adults-from-undue-influence-and-financial-exploitation/
END:VEVENT
END:VCALENDAR