BEGIN:VCALENDAR
VERSION:2.0
PRODID:-//eventon.com NONSGML v1.0//EN
CALSCALE:GREGORIAN
METHOD:PUBLISH
BEGIN:VEVENT
UID:69e74e3ca3191
DTSTAMP:20260421T101524Z
DTSTART:20190716T150000Z
DTEND:20190716T170000Z
LOCATION:Arlington Heights Senior Center 1801 W Central Rd.
SUMMARY:Long-Term Care: Medicare Does Not Pay for It All
DESCRIPTION:Presenter: Kathryn Casey\,  JD\,  CELA\,  Partner and Certifie
 d Elder Law Attorney When you are diagnosed with a chronic medical conditio
 n\,  not only do you need to prepare medically\,  you need to prepare legal
 ly. Besides having the proper estate planning documents\,  you need to know
  what legal options are available in planning[..]\nhttps://duttonelderlaw.c
 om/events/long-term-care-medicare-does-not-pay-for-it-all-4/
URL:https://duttonelderlaw.com/events/long-term-care-medicare-does-not-pay-for-it-all-4/
END:VEVENT
END:VCALENDAR