BEGIN:VCALENDAR
VERSION:2.0
PRODID:-//eventon.com NONSGML v1.0//EN
CALSCALE:GREGORIAN
METHOD:PUBLISH
BEGIN:VEVENT
UID:69e751d1a44ac
DTSTAMP:20260421T103041Z
DTSTART:20200310T220000Z
DTEND:20200311T000000Z
LOCATION:Elderwerks Education and Resource Center 251 E. Northwest Highway
SUMMARY:Long-Term Care: Uncovering the Medicare Myths
DESCRIPTION:When you are diagnosed with a chronic medical condition\,  not 
 only do you need to prepare medically\,  you need to prepare legally. Besid
 es having the proper estate planning documents\,  you need to know what leg
 al options are available in planning and paying for long-term care. That Me
 dicare will pay for[..]\nhttps://duttonelderlaw.com/events/long-term-care-u
 ncovering-the-medicare-myths/
URL:https://duttonelderlaw.com/events/long-term-care-uncovering-the-medicare-myths/
END:VEVENT
END:VCALENDAR