BEGIN:VCALENDAR
VERSION:2.0
PRODID:-//eventon.com NONSGML v1.0//EN
CALSCALE:GREGORIAN
METHOD:PUBLISH
BEGIN:VEVENT
UID:69e73b595e940
DTSTAMP:20260421T085449Z
DTSTART:20191216T153000Z
DTEND:20191216T163000Z
LOCATION:The Arboretum 100 W. Higgins Road
SUMMARY:Holiday Stress
DESCRIPTION:Presented by: Erin Vogt\,  a Clinical Social Worker and Certif
 ied Care Manager\,  who serves a client care coordinator for our firm Date:
  Monday\,  December 16\,  2019 Time: 9:30am-10:30am Location: The Arboret
 um\,  100 W. Higgins Road\,  South Barrington\,  Illinois. The unit is betw
 een Georgio&#8217;s Pizza and Cooper&#8217;s Hawk. No registration is requi
 red.\nhttps://duttonelderlaw.com/events/holiday-stress/
URL:https://duttonelderlaw.com/events/holiday-stress/
END:VEVENT
END:VCALENDAR