BEGIN:VCALENDAR
VERSION:2.0
PRODID:-//eventon.com NONSGML v1.0//EN
CALSCALE:GREGORIAN
METHOD:PUBLISH
BEGIN:VEVENT
UID:69e5fb4b2aa6c
DTSTAMP:20260420T100915Z
DTSTART:20200304
DTEND:20200305
LOCATION:
SUMMARY:Legal Remedies to Protect Vulnerable Adults from Undue Influence and Financial Exploitation
DESCRIPTION:Presenter: Kathryn Casey\,  JD\,  CELA Date: Wednesday\,  Mar
 ch 4\,  2020 Audience: This training is for law enforcement officers attend
 ing the Elderly Services Officers Training. This training is offered throug
 h the Illinois Attorney General&#8217;s Office.\nhttps://duttonelderlaw.com
 /events/legal-remedies-to-protect-vulnerable-adults-from-undue-influence-an
 d-financial-exploitation-2/
URL:https://duttonelderlaw.com/events/legal-remedies-to-protect-vulnerable-adults-from-undue-influence-and-financial-exploitation-2/
END:VEVENT
END:VCALENDAR