BEGIN:VCALENDAR
VERSION:2.0
PRODID:-//eventon.com NONSGML v1.0//EN
CALSCALE:GREGORIAN
METHOD:PUBLISH
BEGIN:VEVENT
UID:69e73b5e65c12
DTSTAMP:20260421T085454Z
DTSTART:20200623T230000Z
DTEND:20200624T000000Z
LOCATION:Webinar
SUMMARY:Guardianship and Alternatives
DESCRIPTION:You can participate via phone or computer This session will rev
 iew the types of decision-makers authorized by Illinois law to make decisio
 ns on behalf of another adult. This includes Powers of Attorney\,  trustees
 \,  healthcare surrogates\,  and guardians. Before you can successfully wor
 k with these decision makers\,  you need to: 1[..]\nhttps://duttonelderlaw.
 com/events/guardianship-and-alternatives/
URL:https://duttonelderlaw.com/events/guardianship-and-alternatives/
END:VEVENT
END:VCALENDAR