BEGIN:VCALENDAR
VERSION:2.0
PRODID:-//eventon.com NONSGML v1.0//EN
CALSCALE:GREGORIAN
METHOD:PUBLISH
BEGIN:VEVENT
UID:69e74b284a6e8
DTSTAMP:20260421T100216Z
DTSTART:20201019
DTEND:20201020
LOCATION:Webinar
SUMMARY:Surrogate Decision Making - Who Decides When a Patient Can't
DESCRIPTION:This session will discuss these issues\,  and more\,  including
  questions commonly asked of elder law attorneys: Who is the decision-maker
  authorized by Illinois law What is the extent of a decisionmaker’s autho
 rity What ethical standards should he or she apply when making decisions Pr
 esented by: Melissa Kallio\,  JD Date: Monday\, [..]\nhttps://duttonelderla
 w.com/events/surrogate-decision-making-who-decides-when-a-patient-cant-3/
URL:https://duttonelderlaw.com/events/surrogate-decision-making-who-decides-when-a-patient-cant-3/
END:VEVENT
END:VCALENDAR