BEGIN:VCALENDAR
VERSION:2.0
PRODID:-//eventon.com NONSGML v1.0//EN
CALSCALE:GREGORIAN
METHOD:PUBLISH
BEGIN:VEVENT
UID:69e73b8349b43
DTSTAMP:20260421T085531Z
DTSTART:20201209T170000Z
DTEND:20201209T180000Z
LOCATION:Webinar
SUMMARY:Looking Out For Your Loved Ones - Discussion with an Elder Law Attorney
DESCRIPTION:Looking Out For Your Loved Ones &#8211; Discussion with an Elde
 r Law Attorney Taking care of an aging family member is one of the most imp
 ortant roles we will take on during our lives. It is also one of the most d
 aunting and demanding roles we will ever experience. And[..]\nhttps://dutto
 nelderlaw.com/events/looking-out-for-your-loved-ones-discussion-with-an-eld
 er-law-attorney/
URL:https://duttonelderlaw.com/events/looking-out-for-your-loved-ones-discussion-with-an-elder-law-attorney/
END:VEVENT
END:VCALENDAR