BEGIN:VCALENDAR
VERSION:2.0
PRODID:-//eventon.com NONSGML v1.0//EN
CALSCALE:GREGORIAN
METHOD:PUBLISH
BEGIN:VEVENT
UID:69e5fafb8958c
DTSTAMP:20260420T100755Z
DTSTART:20201113T190000Z
DTEND:20201113T200000Z
LOCATION:Webinar
SUMMARY:Who Will Take Care of This When I Am Gone?
DESCRIPTION:Who Will Take Care of This When I Am Gone? Attorney Kathryn Cas
 ey will be part of this event and will cover Guardianships\,  Special Needs
  Trusts &amp; The Able Account\,  and Planning to Maintain Medicaid Benefit
 s. Date: Friday\,  November 13\,  2020 Time: 1:00pm-2:00pm Location: Webina
 r Registration: There is no charge[..]\nhttps://duttonelderlaw.com/events/w
 ho-will-take-care-of-this-when-i-am-gone/
URL:https://duttonelderlaw.com/events/who-will-take-care-of-this-when-i-am-gone/
END:VEVENT
END:VCALENDAR