BEGIN:VCALENDAR
VERSION:2.0
PRODID:-//eventon.com NONSGML v1.0//EN
CALSCALE:GREGORIAN
METHOD:PUBLISH
BEGIN:VEVENT
UID:69e7382d9b140
DTSTAMP:20260421T084117Z
DTSTART:20201216T000000Z
DTEND:20201216T010000Z
LOCATION:Webinar
SUMMARY:It's About Living: Planning for Your Health Care Future
DESCRIPTION:Presenters: Kuljik Kapur\,  MD\,  Medical Director Transitions 
 Palliative Care and Hospice\,  and Kathryn Casey\,  JD\,  CELA\,  Certified
  Elder Law Attorney Date: Tuesday\,  December 15\,  2020 Time: 6:00pm-7:00
 pm Location: Webinar Registration: There is no charge to attend. Advanced r
 egistration is required by contacting Kate Monahan Brooks at kmonahan@trans
 itionshospice.com Continuing Education: 1 hour[..]\nhttps://duttonelderlaw.
 com/events/its-about-living-planning-for-your-health-care-future-2/
URL:https://duttonelderlaw.com/events/its-about-living-planning-for-your-health-care-future-2/
END:VEVENT
END:VCALENDAR