BEGIN:VCALENDAR
VERSION:2.0
PRODID:-//eventon.com NONSGML v1.0//EN
CALSCALE:GREGORIAN
METHOD:PUBLISH
BEGIN:VEVENT
UID:69e737c234026
DTSTAMP:20260421T083930Z
DTSTART:20210505T230000Z
DTEND:20210506T000000Z
LOCATION:Webinar
SUMMARY:A Legal Road Map for Aging Well
DESCRIPTION:A Legal Road Map for Aging Well    If the only certainti
 es in life are death and taxes\,  then one of the major uncertainties is ho
 w our golden years will play out. We all hope to age well with excellent ph
 ysical\,  cognitive\,  and mental health. But what about of financial and 
 legal health? We must all prepare[..]\nhttps://duttonelderlaw.com/events/a
 -legal-road-map-for-aging-well-5/
URL:https://duttonelderlaw.com/events/a-legal-road-map-for-aging-well-5/
END:VEVENT
END:VCALENDAR