BEGIN:VCALENDAR
VERSION:2.0
PRODID:-//eventon.com NONSGML v1.0//EN
CALSCALE:GREGORIAN
METHOD:PUBLISH
BEGIN:VEVENT
UID:69e601f1372f7
DTSTAMP:20260420T103737Z
DTSTART:20210324T230000Z
DTEND:20210325T000000Z
LOCATION:Webinar
SUMMARY:Paying for Long-Term Care - Discovering the Medicare Myths
DESCRIPTION:When you are diagnosed with a chronic medical condition\,  not 
 only do you need to prepare medically\,  you need to prepare legally and fi
 nancially. Besides having the proper estate planning documents\,  you need 
 to know what legal options are available in planning and paying for long-te
 rm care. That Medicare will[..]\nhttps://duttonelderlaw.com/events/paying-f
 or-long-term-care-discovering-the-medicare-myths/
URL:https://duttonelderlaw.com/events/paying-for-long-term-care-discovering-the-medicare-myths/
END:VEVENT
END:VCALENDAR