BEGIN:VCALENDAR
VERSION:2.0
PRODID:-//eventon.com NONSGML v1.0//EN
CALSCALE:GREGORIAN
METHOD:PUBLISH
BEGIN:VEVENT
UID:69e9c1005783e
DTSTAMP:20260423T064936Z
DTSTART:20210525T170000Z
DTEND:20210525T180000Z
LOCATION:Webinar
SUMMARY:Paying for Long-Term Care - Uncovering the Medicare Myths
DESCRIPTION:Paying for Long-Term Care &#8211; Uncovering the Medicare Myths
  In celebration of May being National Elder Law Month\,  Melissa will focus
  on the concern and financial burden of paying for Long Term Care. A realis
 tic look at our future or the future of an aging senior leaves many wonderi
 ng “how[..]\nhttps://duttonelderlaw.com/events/paying-for-long-term-care-
 uncovering-the-medicare-myths-2/
URL:https://duttonelderlaw.com/events/paying-for-long-term-care-uncovering-the-medicare-myths-2/
END:VEVENT
END:VCALENDAR