BEGIN:VCALENDAR
VERSION:2.0
PRODID:-//eventon.com NONSGML v1.0//EN
CALSCALE:GREGORIAN
METHOD:PUBLISH
BEGIN:VEVENT
UID:69e5e6cd86e7e
DTSTAMP:20260420T084149Z
DTSTART:20210506T140000Z
DTEND:20210506T150000Z
LOCATION:Webinar
SUMMARY:Understanding the Surrogate Decision Makers - Who Decides When Your Patient or Client Can't?
DESCRIPTION:UNDERSTANDING THE SURROGATE DECISION MAKERS – WHO DECIDES WHE
 N YOUR PATIENT OR CLIENT CAN’T? Date: Thursday\,  May 6\,  2021 Time: 9:0
 0am-10:00am Presenter: Amy Gjesdahl\,  JD This session\,  offered in connec
 tion with Transitions Palliative Care and Hospice\,  will discuss the types
  of decision-makers authorized by Illinois law to make decisions on[..]\nht
 tps://duttonelderlaw.com/events/understanding-the-surrogate-decision-makers
 -who-decides-when-your-patient-or-client-cant-2/
URL:https://duttonelderlaw.com/events/understanding-the-surrogate-decision-makers-who-decides-when-your-patient-or-client-cant-2/
END:VEVENT
END:VCALENDAR