BEGIN:VCALENDAR
VERSION:2.0
PRODID:-//eventon.com NONSGML v1.0//EN
CALSCALE:GREGORIAN
METHOD:PUBLISH
BEGIN:VEVENT
UID:69e9ce409df05
DTSTAMP:20260423T074608Z
DTSTART:20211013T190000Z
DTEND:20211013T200000Z
LOCATION:Webinar
SUMMARY:Understanding the Surrogate Decision Makers - Who Decides When Your Patient or Client Can't?
DESCRIPTION:UNDERSTANDING THE SURROGATE DECISION MAKERS – WHO DECIDES WHE
 N YOUR PATIENT OR CLIENT CAN’T? Date: Wednesday\,  October 12\,  2021 Tim
 e: 2:00pm-3:00pm Presenter: Amy Gjesdahl\,  JD This session discuss the typ
 es of decision-makers authorized by Illinois law to make decisions on behal
 f of a disabled adult including agents under Powers of[..]\nhttps://duttone
 lderlaw.com/events/understanding-the-surrogate-decision-makers-who-decides-
 when-your-patient-or-client-cant-3/
URL:https://duttonelderlaw.com/events/understanding-the-surrogate-decision-makers-who-decides-when-your-patient-or-client-cant-3/
END:VEVENT
END:VCALENDAR