BEGIN:VCALENDAR
VERSION:2.0
PRODID:-//eventon.com NONSGML v1.0//EN
CALSCALE:GREGORIAN
METHOD:PUBLISH
BEGIN:VEVENT
UID:69e73bac9560e
DTSTAMP:20260421T085612Z
DTSTART:19700101T060000Z
DTEND:19700101T060000Z
LOCATION:Chicago\,  Illinois
SUMMARY:Medicaid for Elder Law Attorneys
DESCRIPTION:Attorney Melissa Kallio presents on the ins-and-outs of Medicai
 d laws that all elder law attorneys need to know to best assist their clien
 ts.\nhttps://duttonelderlaw.com/events/medicaid-for-elder-law-attorneys/
URL:https://duttonelderlaw.com/events/medicaid-for-elder-law-attorneys/
END:VEVENT
END:VCALENDAR