BEGIN:VCALENDAR
VERSION:2.0
PRODID:-//eventon.com NONSGML v1.0//EN
CALSCALE:GREGORIAN
METHOD:PUBLISH
BEGIN:VEVENT
UID:69ed00b99919a
DTSTAMP:20260425T175817Z
DTSTART:19700101T060000Z
DTEND:19700101T060000Z
LOCATION:Chicago\,  Illinois
SUMMARY:Long-Term Care: Medicare Does Not Pay for It All
DESCRIPTION:When a diagnosis of a chronic medical condition is given\,  not
  only do you need to prepare medically\,  but you need to prepare legally. 
 Besides having estate planning documents\,  you need to know what legal opt
 ions are available in planning and paying for long-term care. There is a co
 mmon misconception[..]\nhttps://duttonelderlaw.com/events/long-term-care-me
 dicare-does-not-pay-for-it-all-2/
URL:https://duttonelderlaw.com/events/long-term-care-medicare-does-not-pay-for-it-all-2/
END:VEVENT
END:VCALENDAR