BEGIN:VCALENDAR
VERSION:2.0
PRODID:-//eventon.com NONSGML v1.0//EN
CALSCALE:GREGORIAN
METHOD:PUBLISH
BEGIN:VEVENT
UID:69e8a084a2c74
DTSTAMP:20260422T101844Z
DTSTART:19700101T060000Z
DTEND:19700101T060000Z
LOCATION:Arlington Heights\,  Illinois
SUMMARY:Preparing Families for Dementia
DESCRIPTION:It is estimated that half of people affected with dementia are 
 not diagnosed. Among those diagnosed\,  families often complain about lack 
 of disease education\,  resources\,  and care planning. This seminar will f
 ocus on what families need to know and expect as Alzheimer’s disease and 
 other dementias worsen over time. Practical[..]\nhttps://duttonelderlaw.com
 /events/preparing-families-for-dementia-2/
URL:https://duttonelderlaw.com/events/preparing-families-for-dementia-2/
END:VEVENT
END:VCALENDAR