BEGIN:VCALENDAR
VERSION:2.0
PRODID:-//eventon.com NONSGML v1.0//EN
CALSCALE:GREGORIAN
METHOD:PUBLISH
BEGIN:VEVENT
UID:69e73bb1b54c1
DTSTAMP:20260421T085617Z
DTSTART:19700101T060000Z
DTEND:19700101T060000Z
LOCATION:Chicago\,  Illinois
SUMMARY:Legal Remedies for Abuse\,  Neglect\,  and Financial Exploitation
DESCRIPTION:Program objectives: Review rights and responsibilities of an ag
 ent under power of attorney including those that the agent doesn’t have G
 uidance on the guardianship process and the role\,  authority\,  and powers
  of a guardian Overview of legal remedies available to adult protective ser
 vices including access and freeze orders Discussion of[..]\nhttps://duttone
 lderlaw.com/events/legal-remedies-for-abuse-neglect-and-financial-exploitat
 ion-2/
URL:https://duttonelderlaw.com/events/legal-remedies-for-abuse-neglect-and-financial-exploitation-2/
END:VEVENT
END:VCALENDAR