BEGIN:VCALENDAR
VERSION:2.0
PRODID:-//eventon.com NONSGML v1.0//EN
CALSCALE:GREGORIAN
METHOD:PUBLISH
BEGIN:VEVENT
UID:69e7516c0501f
DTSTAMP:20260421T102900Z
DTSTART:19700101T060000Z
DTEND:19700101T060000Z
LOCATION:Arlington Heights\,  Illinois
SUMMARY:Legal Care for Dementia
DESCRIPTION:When a diagnosis of a dementia is given\,  not only do you need
  to prepare medically\,  you need to prepare legally. This session will add
 ress important topics such as Powers of Attorney\,  Living Trusts and Wills
 .\nhttps://duttonelderlaw.com/events/legal-care-for-dementia-2/
URL:https://duttonelderlaw.com/events/legal-care-for-dementia-2/
END:VEVENT
END:VCALENDAR