BEGIN:VCALENDAR
VERSION:2.0
PRODID:-//eventon.com NONSGML v1.0//EN
CALSCALE:GREGORIAN
METHOD:PUBLISH
BEGIN:VEVENT
UID:69e5e75b8c994
DTSTAMP:20260420T084411Z
DTSTART:19700101T060000Z
DTEND:19700101T060000Z
LOCATION:Park Ridge
SUMMARY:Understanding Decisional Capacity: How a Neuropsychologist Can Evaluate and Legal Options for Substitute Decision Making
DESCRIPTION:By attending this session\,  participants will learn How neurop
 sychologists evaluate cognitive functioning for the purposes of diagnosis a
 nd treatment planning. The primary uses of a neuropsychological assessment.
  The levels of decisional capacity needed to engage in the contract of powe
 r of attorney for healthcare and property. Rights and responsibilities of[.
 .]\nhttps://duttonelderlaw.com/events/understanding-decisional-capacity-how
 -a-neuropsychologist-can-evaluate-and-legal-options-for-substitute-decision
 -making/
URL:https://duttonelderlaw.com/events/understanding-decisional-capacity-how-a-neuropsychologist-can-evaluate-and-legal-options-for-substitute-decision-making/
END:VEVENT
END:VCALENDAR