BEGIN:VCALENDAR
VERSION:2.0
PRODID:-//eventon.com NONSGML v1.0//EN
CALSCALE:GREGORIAN
METHOD:PUBLISH
BEGIN:VEVENT
UID:69e5faf188d6d
DTSTAMP:20260420T100745Z
DTSTART:19700101T060000Z
DTEND:19700101T060000Z
LOCATION:Schaumburg\,  Illinois
SUMMARY:Legal Planning When Living with A Chronic Medical Condition – Huntington’s Disease
DESCRIPTION:Attorney Helen Mesoloras presents on the legal documents needed
  when living with a chronic medical condition.\nhttps://duttonelderlaw.com/
 events/legal-planning-when-living-with-a-chronic-medical-condition-huntingt
 ons-disease/
URL:https://duttonelderlaw.com/events/legal-planning-when-living-with-a-chronic-medical-condition-huntingtons-disease/
END:VEVENT
END:VCALENDAR