BEGIN:VCALENDAR
VERSION:2.0
PRODID:-//eventon.com NONSGML v1.0//EN
CALSCALE:GREGORIAN
METHOD:PUBLISH
BEGIN:VEVENT
UID:69e742cce3a12
DTSTAMP:20260421T092636Z
DTSTART:19700101T060000Z
DTEND:19700101T060000Z
LOCATION:North Riverside\,  Illinois
SUMMARY:Have a Say In Your Future
DESCRIPTION:One of the most difficult tasks in the world is putting togethe
 r a plan that you hope you and your loved ones will never have to use. When
  the unexpected happens\,  however\,  it helps to have the proper documents
  (such as powers of attorney\,  wills\,  and trusts) in place to[..]\nhttps
 ://duttonelderlaw.com/events/have-a-say-in-your-future-3/
URL:https://duttonelderlaw.com/events/have-a-say-in-your-future-3/
END:VEVENT
END:VCALENDAR