BEGIN:VCALENDAR
VERSION:2.0
PRODID:-//eventon.com NONSGML v1.0//EN
CALSCALE:GREGORIAN
METHOD:PUBLISH
BEGIN:VEVENT
UID:69e7387a84e8a
DTSTAMP:20260421T084234Z
DTSTART:19700101T060000Z
DTEND:19700101T060000Z
LOCATION:Elmhurst Illinois
SUMMARY:Prepare to Care
DESCRIPTION:One of the hardest tasks in the world is putting together a pla
 n you hope you and your loved one will never have to use. When the unexpect
 ed happens\,  however\,  it helps to have the documents in place to deal wi
 th life’s complications\,  especially when they are designed to help[..]\
 nhttps://duttonelderlaw.com/events/prepare-to-care-8/
URL:https://duttonelderlaw.com/events/prepare-to-care-8/
END:VEVENT
END:VCALENDAR