BEGIN:VCALENDAR
VERSION:2.0
PRODID:-//eventon.com NONSGML v1.0//EN
CALSCALE:GREGORIAN
METHOD:PUBLISH
BEGIN:VEVENT
UID:69e5e75b8bb91
DTSTAMP:20260420T084411Z
DTSTART:19700101T060000Z
DTEND:19700101T060000Z
LOCATION:Chicago\,  Illinois
SUMMARY:Understanding Estate Administration
DESCRIPTION:Whenever a person dies\,  their estate needs to be collected an
 d managed. Estate administration involves gathering the assets of the estat
 e\,  paying the decedent&#8217;s debts\,  and distributing the remaining as
 sets. Not only are you dealing with the death of a loved one\,  the estate 
 administration process can be overwhelming. Attend[..]\nhttps://duttonelder
 law.com/events/understanding-estate-administration/
URL:https://duttonelderlaw.com/events/understanding-estate-administration/
END:VEVENT
END:VCALENDAR