BEGIN:VCALENDAR
VERSION:2.0
PRODID:-//eventon.com NONSGML v1.0//EN
CALSCALE:GREGORIAN
METHOD:PUBLISH
BEGIN:VEVENT
UID:69e7383b3bf27
DTSTAMP:20260421T084131Z
DTSTART:19700101T060000Z
DTEND:19700101T060000Z
LOCATION:Hoffman Estates
SUMMARY:Legal Planning for Living with a Chronic Medical Condition
DESCRIPTION:Topics to be covered include: what are Powers of Attorney\,  Li
 ving Trusts\,  Wills? What legal options are available in planning and payi
 ng for long-term care? How can Medicare\,  Medicaid\,  and how long-term ca
 re insurance and personal care contracts maximize a person’s quality of l
 ife?\nhttps://duttonelderlaw.com/events/legal-planning-for-living-with-a-ch
 ronic-medical-condition-6/
URL:https://duttonelderlaw.com/events/legal-planning-for-living-with-a-chronic-medical-condition-6/
END:VEVENT
END:VCALENDAR