BEGIN:VCALENDAR
VERSION:2.0
PRODID:-//eventon.com NONSGML v1.0//EN
CALSCALE:GREGORIAN
METHOD:PUBLISH
BEGIN:VEVENT
UID:69e60eda3548a
DTSTAMP:20260420T113242Z
DTSTART:19700101T060000Z
DTEND:19700101T060000Z
LOCATION:Chicago\,  Illinois
SUMMARY:Understanding the Surrogate Decision Makers
DESCRIPTION:Attend this program to learn more about Powers of Attorney for 
 Healthcare (which changed on January 1\,  2015); Power of Attorney for Prop
 erty\,  Healthcare Surrogate Act\,  Mental Health Preference Treatment Decl
 aration Act\,  and Guardianships.\nhttps://duttonelderlaw.com/events/unders
 tanding-the-surrogate-decision-makers-12/
URL:https://duttonelderlaw.com/events/understanding-the-surrogate-decision-makers-12/
END:VEVENT
END:VCALENDAR