BEGIN:VCALENDAR
VERSION:2.0
PRODID:-//eventon.com NONSGML v1.0//EN
CALSCALE:GREGORIAN
METHOD:PUBLISH
BEGIN:VEVENT
UID:69e5e745e91d9
DTSTAMP:20260420T084349Z
DTSTART:19700101T060000Z
DTEND:19700101T060000Z
LOCATION:Lisle\,  Illinois
SUMMARY:Winter UnProgram
DESCRIPTION:This program is for attorneys and is offered through the Nation
 al Academy of Elder Law Attorneys\,  Illinois Chapter. Presenter from Dutto
 n &amp; Casey: Helen Mesoloras\,  JD Topic: Drafting Powers of Attorney and
  Estate Planning Documents\nhttps://duttonelderlaw.com/events/winter-unprog
 ram/
URL:https://duttonelderlaw.com/events/winter-unprogram/
END:VEVENT
END:VCALENDAR