BEGIN:VCALENDAR
VERSION:2.0
PRODID:-//eventon.com NONSGML v1.0//EN
CALSCALE:GREGORIAN
METHOD:PUBLISH
BEGIN:VEVENT
UID:69e73814a4bec
DTSTAMP:20260421T084052Z
DTSTART:19700101T060000Z
DTEND:19700101T060000Z
LOCATION:Chicago\,  Illinois
SUMMARY:Special Needs Planning
DESCRIPTION:Private presentation for a group of attorneys.\nhttps://duttone
 lderlaw.com/events/special-needs-planning/
URL:https://duttonelderlaw.com/events/special-needs-planning/
END:VEVENT
END:VCALENDAR