BEGIN:VCALENDAR
VERSION:2.0
PRODID:-//eventon.com NONSGML v1.0//EN
CALSCALE:GREGORIAN
METHOD:PUBLISH
BEGIN:VEVENT
UID:69e636d23ba95
DTSTAMP:20260420T142314Z
DTSTART:19700101T060000Z
DTEND:19700101T060000Z
LOCATION:Glenview\,  Illinois
SUMMARY:Elder Law and Ethics\,  2013
DESCRIPTION:Elder Law and Ethics\,  2013\nhttps://duttonelderlaw.com/events
 /elder-law-and-ethics-2013-2/
URL:https://duttonelderlaw.com/events/elder-law-and-ethics-2013-2/
END:VEVENT
END:VCALENDAR