BEGIN:VCALENDAR
VERSION:2.0
PRODID:-//eventon.com NONSGML v1.0//EN
CALSCALE:GREGORIAN
METHOD:PUBLISH
BEGIN:VEVENT
UID:69e737c223c03
DTSTAMP:20260421T083930Z
DTSTART:19700101T060000Z
DTEND:19700101T060000Z
LOCATION:Chicago\,  Illinois
SUMMARY:Elder Law and Ethics\,  2013 Day 2
DESCRIPTION:Please join us for an interactive presentation and case studies
  of elder law &amp; ethics topics such as: Determination of decisional capa
 city Risk factors for neglect\,  abuse\,  exploitation\,  and undue influen
 ce Solutions for helping those at risk Changes to Medicaid Presenter: Kathr
 yn C. Casey\,  JD\,  CELA\nhttps://duttonelderlaw.com/events/elder-law-and-
 ethics-2013-3/
URL:https://duttonelderlaw.com/events/elder-law-and-ethics-2013-3/
END:VEVENT
END:VCALENDAR