BEGIN:VCALENDAR
VERSION:2.0
PRODID:-//eventon.com NONSGML v1.0//EN
CALSCALE:GREGORIAN
METHOD:PUBLISH
BEGIN:VEVENT
UID:69ed848f395a5
DTSTAMP:20260426T032047Z
DTSTART:19700101T060000Z
DTEND:19700101T060000Z
LOCATION:Chicago\,  Illinois
SUMMARY:Guardianships: What They Are\,  How They Work\,  and How They Can Assist Your Clients
DESCRIPTION:This session is offered in conjunction with the Illinois Depart
 ment on Aging&#8217;s Annual Governor&#8217;s Conference on Aging in Chicag
 o\,  Illinois.\nhttps://duttonelderlaw.com/events/guardianships-what-they-a
 re-how-they-work-and-how-they-can-assist-your-clients/
URL:https://duttonelderlaw.com/events/guardianships-what-they-are-how-they-work-and-how-they-can-assist-your-clients/
END:VEVENT
END:VCALENDAR