BEGIN:VCALENDAR
VERSION:2.0
PRODID:-//eventon.com NONSGML v1.0//EN
CALSCALE:GREGORIAN
METHOD:PUBLISH
BEGIN:VEVENT
UID:69e73c048e967
DTSTAMP:20260421T085740Z
DTSTART:19700101T060000Z
DTEND:19700101T060000Z
LOCATION:Chicago\,  Illinois
SUMMARY:Guardianship\,  Powers of Attorney\,  and Undue Influence
DESCRIPTION:This training is for police officers and offered in conjunction
  with the Elderly Services Officers Training through the Illinois Attorney 
 General&#8217;s Office.\nhttps://duttonelderlaw.com/events/guardianship-pow
 ers-of-attorney-and-undue-influence-2/
URL:https://duttonelderlaw.com/events/guardianship-powers-of-attorney-and-undue-influence-2/
END:VEVENT
END:VCALENDAR