BEGIN:VCALENDAR
VERSION:2.0
PRODID:-//eventon.com NONSGML v1.0//EN
CALSCALE:GREGORIAN
METHOD:PUBLISH
BEGIN:VEVENT
UID:69e7382d9d969
DTSTAMP:20260421T084117Z
DTSTART:19700101T060000Z
DTEND:19700101T060000Z
LOCATION:Chicago\,  Illinois
SUMMARY:Navigating Legal Issues for Family Caregivers: What Social Service Providers Need to Know
DESCRIPTION:Navigating Legal Issues for Family Caregivers: What Social Serv
 ice Providers Need to Know\nhttps://duttonelderlaw.com/events/navigating-le
 gal-issues-for-family-caregivers-what-social-service-providers-need-to-know
 /
URL:https://duttonelderlaw.com/events/navigating-legal-issues-for-family-caregivers-what-social-service-providers-need-to-know/
END:VEVENT
END:VCALENDAR