BEGIN:VCALENDAR
VERSION:2.0
PRODID:-//eventon.com NONSGML v1.0//EN
CALSCALE:GREGORIAN
METHOD:PUBLISH
BEGIN:VEVENT
UID:69e751730ef5c
DTSTAMP:20260421T102907Z
DTSTART:19700101T060000Z
DTEND:19700101T060000Z
LOCATION:Des Plaines\,  Illinois
SUMMARY:Legal Planning for Living with a Chronic Medical Condition (Dementia)
DESCRIPTION:Legal Planning for Living with a Chronic Medical Condition (Dem
 entia)\nhttps://duttonelderlaw.com/events/legal-planning-for-living-with-a-
 chronic-medical-condition-dementia/
URL:https://duttonelderlaw.com/events/legal-planning-for-living-with-a-chronic-medical-condition-dementia/
END:VEVENT
END:VCALENDAR