BEGIN:VCALENDAR
VERSION:2.0
PRODID:-//eventon.com NONSGML v1.0//EN
CALSCALE:GREGORIAN
METHOD:PUBLISH
BEGIN:VEVENT
UID:69e5e718e641b
DTSTAMP:20260420T084304Z
DTSTART:19700101T060000Z
DTEND:19700101T060000Z
LOCATION:Chicago\,  Illinois
SUMMARY:Navigating Legal Issues for Family Caregivers
DESCRIPTION:Navigating Legal Issues for Family Caregivers\nhttps://duttonel
 derlaw.com/events/navigating-legal-issues-for-family-caregivers-9/
URL:https://duttonelderlaw.com/events/navigating-legal-issues-for-family-caregivers-9/
END:VEVENT
END:VCALENDAR