BEGIN:VCALENDAR
VERSION:2.0
PRODID:-//eventon.com NONSGML v1.0//EN
CALSCALE:GREGORIAN
METHOD:PUBLISH
BEGIN:VEVENT
UID:69e5f10105b85
DTSTAMP:20260420T092521Z
DTSTART:19700101T060000Z
DTEND:19700101T060000Z
LOCATION:Chicago\,  Illinois
SUMMARY:Medicaid Update
DESCRIPTION:Private presentation sponsored by Elder Law Committee of the Ch
 icago Bar Association. Presenters: Partners Janna Dutton\,  JD\,  CELA\,  a
 nd Kathryn C. Casey\,  JD\,  CELA.\nhttps://duttonelderlaw.com/events/medic
 aid-update-3/
URL:https://duttonelderlaw.com/events/medicaid-update-3/
END:VEVENT
END:VCALENDAR