BEGIN:VCALENDAR
VERSION:2.0
PRODID:-//eventon.com NONSGML v1.0//EN
CALSCALE:GREGORIAN
METHOD:PUBLISH
BEGIN:VEVENT
UID:69e6dd772d432
DTSTAMP:20260421T021415Z
DTSTART:19700101T060000Z
DTEND:19700101T060000Z
LOCATION:Elk Grove Village\,  Illinois
SUMMARY:National Memory Screening Day
DESCRIPTION:Care Coordinator Erin Vogt assisted with the National Memory Sc
 reening Day event at Arden Courts in Elk Grove Village.\nhttps://duttonelde
 rlaw.com/events/national-memory-screening-day/
URL:https://duttonelderlaw.com/events/national-memory-screening-day/
END:VEVENT
END:VCALENDAR