BEGIN:VCALENDAR
VERSION:2.0
PRODID:-//eventon.com NONSGML v1.0//EN
CALSCALE:GREGORIAN
METHOD:PUBLISH
BEGIN:VEVENT
UID:69e5fafb8bc94
DTSTAMP:20260420T100755Z
DTSTART:19700101T060000Z
DTEND:19700101T060000Z
LOCATION:Chicago\,  Illinois
SUMMARY:Resource Fair for People with a Disability and their Families
DESCRIPTION:This fair provides attendees the opportunity to hear two speake
 rs and learn about local community-based resources.\nhttps://duttonelderlaw
 .com/events/resource-fair-for-people-with-a-disability-and-their-families/
URL:https://duttonelderlaw.com/events/resource-fair-for-people-with-a-disability-and-their-families/
END:VEVENT
END:VCALENDAR