BEGIN:VCALENDAR
VERSION:2.0
PRODID:-//eventon.com NONSGML v1.0//EN
CALSCALE:GREGORIAN
METHOD:PUBLISH
BEGIN:VEVENT
UID:69e802f96dbc8
DTSTAMP:20260421T230633Z
DTSTART:19700101T060000Z
DTEND:19700101T060000Z
LOCATION:Chicago\,  Illinois
SUMMARY:Why Cant They Throw It Away\,  Understanding Hoarding and Other Odd Behaviors With Older Adults
DESCRIPTION:Attorney Kathryn C. Casey\,  JD\,  CELA\,  shares insight into 
 behaviors associated with hoarding\,  including its link to dementia.\nhttp
 s://duttonelderlaw.com/events/why-cant-they-throw-it-away-understanding-hoa
 rding-and-other-odd-behaviors-with-older-adults/
URL:https://duttonelderlaw.com/events/why-cant-they-throw-it-away-understanding-hoarding-and-other-odd-behaviors-with-older-adults/
END:VEVENT
END:VCALENDAR