BEGIN:VCALENDAR
VERSION:2.0
PRODID:-//eventon.com NONSGML v1.0//EN
CALSCALE:GREGORIAN
METHOD:PUBLISH
BEGIN:VEVENT
UID:69e73af774033
DTSTAMP:20260421T085311Z
DTSTART:19700101T060000Z
DTEND:19700101T060000Z
LOCATION:Chicago\,  Illinois
SUMMARY:Illinois Elderlaw 2011
DESCRIPTION:This program examined the legal issues of planning for disabili
 ty/incapacity and provided current information crucial to care planning for
  older clients.\nhttps://duttonelderlaw.com/events/illinois-elderlaw-2011/
URL:https://duttonelderlaw.com/events/illinois-elderlaw-2011/
END:VEVENT
END:VCALENDAR