BEGIN:VCALENDAR
VERSION:2.0
PRODID:-//eventon.com NONSGML v1.0//EN
CALSCALE:GREGORIAN
METHOD:PUBLISH
BEGIN:VEVENT
UID:69e74c9f21272
DTSTAMP:20260421T100831Z
DTSTART:19700101T060000Z
DTEND:19700101T060000Z
LOCATION:Chicago\,  Illinois
SUMMARY:"Disabled Radio" Guest Spot
DESCRIPTION:&#8220;Kathryn C. Casey\,  JD\,  CELA\,  will join us\,  who co
 ncentrates her practice in the area of elder law\,  including asset protect
 ion\,  life care planning\,  estate and special needs planning\,  special n
 eeds trusts\,  adult guardianship estates\,  decedents’ estates and trust
  administration.&#8221; &#8220;Disabled Radio&#8221; show\,  hosted by Rob 
 Pitts. &nbsp; https://www.blogtalkradio.com/disabledradio/2011/09/01/gettin
 g-ahead-while-playing-by-the-rules\nhttps://duttonelderlaw.com/events/disab
 ility-radio-guest-spot/
URL:https://duttonelderlaw.com/events/disability-radio-guest-spot/
END:VEVENT
END:VCALENDAR