BEGIN:VCALENDAR
VERSION:2.0
PRODID:-//eventon.com NONSGML v1.0//EN
CALSCALE:GREGORIAN
METHOD:PUBLISH
BEGIN:VEVENT
UID:69eb61bf872f0
DTSTAMP:20260424T122743Z
DTSTART:19700101T060000Z
DTEND:19700101T060000Z
LOCATION:Schaumburg\,  Illinois
SUMMARY:Legal Ability Planning - How to Prepare For and Prosper in Adulthood
DESCRIPTION:Legal Ability Planning - How to Prepare For and Prosper in Adul
 thood\nhttps://duttonelderlaw.com/events/legal-ability-planning-how-to-prep
 are-for-and-prosper-in-adulthood-2/
URL:https://duttonelderlaw.com/events/legal-ability-planning-how-to-prepare-for-and-prosper-in-adulthood-2/
END:VEVENT
END:VCALENDAR