BEGIN:VCALENDAR
VERSION:2.0
PRODID:-//eventon.com NONSGML v1.0//EN
CALSCALE:GREGORIAN
METHOD:PUBLISH
BEGIN:VEVENT
UID:69e601ace6b87
DTSTAMP:20260420T103628Z
DTSTART:19700101T060000Z
DTEND:19700101T060000Z
LOCATION:Chicago\,  Illinois
SUMMARY:ISBA Women’s Law Committee and Elder Law Committee Presentation on Aging
DESCRIPTION:Attorney Kathryn C. Casey and Erin Vogt\,  LCSW\,  present at t
 he ISBA Women’s Law Committee and Elder Law Committee Presentation on Agi
 ng.\nhttps://duttonelderlaw.com/events/isba-womens-law-committee-and-elder-
 law-committee-presentation-on-aging/
URL:https://duttonelderlaw.com/events/isba-womens-law-committee-and-elder-law-committee-presentation-on-aging/
END:VEVENT
END:VCALENDAR