BEGIN:VCALENDAR
VERSION:2.0
PRODID:-//eventon.com NONSGML v1.0//EN
CALSCALE:GREGORIAN
METHOD:PUBLISH
BEGIN:VEVENT
UID:69e73bb1b8466
DTSTAMP:20260421T085617Z
DTSTART:19700101T060000Z
DTEND:19700101T060000Z
LOCATION:Chicago\,  Illinois
SUMMARY:Northwestern FTD/PPA Caregiver Education and Support Conference
DESCRIPTION:Janna Dutton\,  JD\,  CELA\,  will speak at Northwestern Univer
 sity&#8217;s Cognitive Neurology and Alzheimer’s Disease Center Conferenc
 e.\nhttps://duttonelderlaw.com/events/northwestern-ftd-ppa-caregiver-educat
 ion-and-support-conference/
URL:https://duttonelderlaw.com/events/northwestern-ftd-ppa-caregiver-education-and-support-conference/
END:VEVENT
END:VCALENDAR