BEGIN:VCALENDAR
VERSION:2.0
PRODID:-//eventon.com NONSGML v1.0//EN
CALSCALE:GREGORIAN
METHOD:PUBLISH
BEGIN:VEVENT
UID:69e5eb2177cde
DTSTAMP:20260420T090017Z
DTSTART:19700101T060000Z
DTEND:19700101T060000Z
LOCATION:Barrington\,  Illinois
SUMMARY:Legal Planning for Family Caregivers
DESCRIPTION:Attorney Kathryn Casey presents “Legal Planning for Family Ca
 regivers” at Barrington Area Council on Aging.\nhttps://duttonelderlaw.co
 m/events/legal-planning-for-family-caregivers-4/
URL:https://duttonelderlaw.com/events/legal-planning-for-family-caregivers-4/
END:VEVENT
END:VCALENDAR