BEGIN:VCALENDAR
VERSION:2.0
PRODID:-//eventon.com NONSGML v1.0//EN
CALSCALE:GREGORIAN
METHOD:PUBLISH
BEGIN:VEVENT
UID:69e73f49ec748
DTSTAMP:20260421T091137Z
DTSTART:19700101T060000Z
DTEND:19700101T060000Z
LOCATION:Schaumburg\,  Illinois
SUMMARY:Sponsor of Charting the Future: Working Together for Older Adults
DESCRIPTION:Elder Rights and TRIAD Conference\,  Schaumburg Marriott.\nhttp
 s://duttonelderlaw.com/events/sponsor-of-charting-the-future-working-togeth
 er-for-older-adults/
URL:https://duttonelderlaw.com/events/sponsor-of-charting-the-future-working-together-for-older-adults/
END:VEVENT
END:VCALENDAR