BEGIN:VCALENDAR
VERSION:2.0
PRODID:-//eventon.com NONSGML v1.0//EN
CALSCALE:GREGORIAN
METHOD:PUBLISH
BEGIN:VEVENT
UID:69e5e75091dd3
DTSTAMP:20260420T084400Z
DTSTART:19700101T060000Z
DTEND:19700101T060000Z
LOCATION:Chicago\,  Illinois
SUMMARY:Legal Planning for a Person who has Dementia
DESCRIPTION:Held at Rush University Medical Center\,  Older Adult Services\
 ,  Bowman Health Center.\nhttps://duttonelderlaw.com/events/legal-planning-
 for-a-person-who-has-dementia/
URL:https://duttonelderlaw.com/events/legal-planning-for-a-person-who-has-dementia/
END:VEVENT
END:VCALENDAR