BEGIN:VCALENDAR
VERSION:2.0
PRODID:-//eventon.com NONSGML v1.0//EN
CALSCALE:GREGORIAN
METHOD:PUBLISH
BEGIN:VEVENT
UID:69e4e40724ca5
DTSTAMP:20260419T141743Z
DTSTART:19700101T060000Z
DTEND:19700101T060000Z
LOCATION:Chicago\,  Illinois
SUMMARY:Illinois Institute for Continuing Legal Education: A Day on Elder Law
DESCRIPTION:Our firm will present on Basic Estate Planning for the Elder Cl
 ient.\nhttps://duttonelderlaw.com/events/illinois-institute-for-continuing-
 legal-education-a-day-on-elder-law/
URL:https://duttonelderlaw.com/events/illinois-institute-for-continuing-legal-education-a-day-on-elder-law/
END:VEVENT
END:VCALENDAR