BEGIN:VCALENDAR
VERSION:2.0
PRODID:-//eventon.com NONSGML v1.0//EN
CALSCALE:GREGORIAN
METHOD:PUBLISH
BEGIN:VEVENT
UID:69e60248be90d
DTSTAMP:20260420T103904Z
DTSTART:19700101T060000Z
DTEND:19700101T060000Z
LOCATION:Hoffman Estates
SUMMARY:Medicaid and Asset Protection - Elderwerks Expo
DESCRIPTION:Principal Partner Kathryn C. Casey\,  JD\,  CELA\,  will presen
 t at the 2022 Elderwerks Aging Better Expo on Medicaid and Asset Protection
 . &nbsp; For more information on this expo\,  visit this link: https://www.
 elderwerks.org/resources/seniorfair/default.aspx&nbsp;\nhttps://duttonelder
 law.com/events/medicaid-and-asset-protection-elderwerks-expo/
URL:https://duttonelderlaw.com/events/medicaid-and-asset-protection-elderwerks-expo/
END:VEVENT
END:VCALENDAR